BEGIN:VCALENDAR
VERSION:2.0
PRODID:-//International Churches of Nice and St Paul de Vence - ECPv6.15.20//NONSGML v1.0//EN
CALSCALE:GREGORIAN
METHOD:PUBLISH
X-ORIGINAL-URL:https://ibcfrance.org
X-WR-CALDESC:Events for International Churches of Nice and St Paul de Vence
REFRESH-INTERVAL;VALUE=DURATION:PT1H
X-Robots-Tag:noindex
X-PUBLISHED-TTL:PT1H
BEGIN:VTIMEZONE
TZID:Europe/Paris
BEGIN:DAYLIGHT
TZOFFSETFROM:+0100
TZOFFSETTO:+0200
TZNAME:CEST
DTSTART:20230326T010000
END:DAYLIGHT
BEGIN:STANDARD
TZOFFSETFROM:+0200
TZOFFSETTO:+0100
TZNAME:CET
DTSTART:20231029T010000
END:STANDARD
BEGIN:DAYLIGHT
TZOFFSETFROM:+0100
TZOFFSETTO:+0200
TZNAME:CEST
DTSTART:20240331T010000
END:DAYLIGHT
BEGIN:STANDARD
TZOFFSETFROM:+0200
TZOFFSETTO:+0100
TZNAME:CET
DTSTART:20241027T010000
END:STANDARD
BEGIN:DAYLIGHT
TZOFFSETFROM:+0100
TZOFFSETTO:+0200
TZNAME:CEST
DTSTART:20250330T010000
END:DAYLIGHT
BEGIN:STANDARD
TZOFFSETFROM:+0200
TZOFFSETTO:+0100
TZNAME:CET
DTSTART:20251026T010000
END:STANDARD
END:VTIMEZONE
BEGIN:VEVENT
DTSTART;TZID=Europe/Paris:20240324T120000
DTEND;TZID=Europe/Paris:20240324T133000
DTSTAMP:20260425T012343
CREATED:20241222T160922Z
LAST-MODIFIED:20241222T160922Z
UID:10000243-1711281600-1711287000@ibcfrance.org
SUMMARY:Potluck Sunday St Paul
DESCRIPTION:On the 4th Sunday of every month\, we join together in fellowship after the service to enjoy a meal together.  Please bring food or drinks to share.   \nWe always need help setting up and cleaning up\, so please step in as you can.
URL:https://ibcfrance.org/event/potluck-sunday-st-paul/2024-03-24/
LOCATION:IBC St Paul de Vence\, Rond Point Sainte Claire\, Espace Sainte Claire Commercial Center/Indigo Parking Garage on Level 0\, St Paul de Vence\, 06570\, France
CATEGORIES:Special Events
END:VEVENT
BEGIN:VEVENT
DTSTART;TZID=Europe/Paris:20240329T190000
DTEND;TZID=Europe/Paris:20240329T203000
DTSTAMP:20260425T012343
CREATED:20241222T160922Z
LAST-MODIFIED:20241222T160922Z
UID:10000782-1711738800-1711744200@ibcfrance.org
SUMMARY:Good Friday Service (St Paul only)
DESCRIPTION:Please join us for a joint service for both Nice and St Paul in St Paul de Vence.
URL:https://ibcfrance.org/event/good-friday-service-st-paul-only/
LOCATION:IBC St Paul de Vence\, Rond Point Sainte Claire\, Espace Sainte Claire Commercial Center/Indigo Parking Garage on Level 0\, St Paul de Vence\, 06570\, France
CATEGORIES:Special Events
END:VEVENT
BEGIN:VEVENT
DTSTART;TZID=Europe/Paris:20240331T104500
DTEND;TZID=Europe/Paris:20240331T121500
DTSTAMP:20260425T012343
CREATED:20241222T160922Z
LAST-MODIFIED:20241222T160922Z
UID:10000808-1711881900-1711887300@ibcfrance.org
SUMMARY:Combined Easter Sunday Service at St. Paul (and Online)
DESCRIPTION:Nice and St. Paul are invited to come together in a combined Easter celebration to be held at St.Paul de Vence at 1045. \nWe will celebrate Easter and the reality of the Risen Lord. \nImmediately following the worship service\, we will meet for an Easter fellowship celebration in Pastor James’ yard.   \nSee activities tab for directions\, details and what to bring.
URL:https://ibcfrance.org/event/combined-easter-sunday-service-at-st-paul-and-online/
LOCATION:IBC St Paul de Vence\, Rond Point Sainte Claire\, Espace Sainte Claire Commercial Center/Indigo Parking Garage on Level 0\, St Paul de Vence\, 06570\, France
CATEGORIES:Special Events,Worship St Paul
END:VEVENT
BEGIN:VEVENT
DTSTART;TZID=Europe/Paris:20240331T173000
DTEND;TZID=Europe/Paris:20240331T190000
DTSTAMP:20260425T012343
CREATED:20241222T160939Z
LAST-MODIFIED:20241222T160939Z
UID:10000807-1711906200-1711911600@ibcfrance.org
SUMMARY:Special:  Easter Praise Service Nice
DESCRIPTION:Easter Sunday services for both Nice and St Paul will be celebrated together and will occur in St Paul at 1045. \nImmediately following the worship service\, an Easter celebration (with a shared meal for all and games for kids) occurring after the service in Pastor James’ yard.  (See activities tab for directions and what to bring) \nHowever\, there will be a special Easter Praise service in Nice at 1730 (5:30 PM).
URL:https://ibcfrance.org/event/special-easter-praise-service-nice/
LOCATION:IBC Nice (Église Baptiste)\, 13 rue Vernier\, Nice\, 06000\, France
CATEGORIES:Special Events
END:VEVENT
END:VCALENDAR