BEGIN:VCALENDAR
VERSION:2.0
PRODID:-//International Churches of Nice and St Paul de Vence - ECPv6.15.20//NONSGML v1.0//EN
CALSCALE:GREGORIAN
METHOD:PUBLISH
X-ORIGINAL-URL:https://ibcfrance.org
X-WR-CALDESC:Events for International Churches of Nice and St Paul de Vence
REFRESH-INTERVAL;VALUE=DURATION:PT1H
X-Robots-Tag:noindex
X-PUBLISHED-TTL:PT1H
BEGIN:VTIMEZONE
TZID:Europe/Paris
BEGIN:DAYLIGHT
TZOFFSETFROM:+0100
TZOFFSETTO:+0200
TZNAME:CEST
DTSTART:20240331T010000
END:DAYLIGHT
BEGIN:STANDARD
TZOFFSETFROM:+0200
TZOFFSETTO:+0100
TZNAME:CET
DTSTART:20241027T010000
END:STANDARD
BEGIN:DAYLIGHT
TZOFFSETFROM:+0100
TZOFFSETTO:+0200
TZNAME:CEST
DTSTART:20250330T010000
END:DAYLIGHT
BEGIN:STANDARD
TZOFFSETFROM:+0200
TZOFFSETTO:+0100
TZNAME:CET
DTSTART:20251026T010000
END:STANDARD
BEGIN:DAYLIGHT
TZOFFSETFROM:+0100
TZOFFSETTO:+0200
TZNAME:CEST
DTSTART:20260329T010000
END:DAYLIGHT
BEGIN:STANDARD
TZOFFSETFROM:+0200
TZOFFSETTO:+0100
TZNAME:CET
DTSTART:20261025T010000
END:STANDARD
END:VTIMEZONE
BEGIN:VEVENT
DTSTART;TZID=Europe/Paris:20250214T190000
DTEND;TZID=Europe/Paris:20250214T210000
DTSTAMP:20260423T211139
CREATED:20250210T144231Z
LAST-MODIFIED:20250210T144323Z
UID:10003229-1739559600-1739566800@ibcfrance.org
SUMMARY:Mon Chéri Valentine's Day Party - Nice and Monaco welcome
DESCRIPTION:Join us for an evening of dinner\, music and fun on Valentine’s Day\, February 14\, 2025\, 1900 at IBC St Paul de Vence.  Nice and Monaco are welcome! \nJazzie is organizing this.  She would appreciate an RSVP so that she can plan for food.  Contact her.  Or if you don’t know her phone number\, just click on the contact button\, send us and email and we will get the info to her. \nThere is a suggested donation of 25 euros per couple\, but don’t let that stop you from attending.
URL:https://ibcfrance.org/event/mon-cheri-valentines-day-party-nice-and-monaco-welcome/
LOCATION:IBC St Paul de Vence\, Rond Point Sainte Claire\, Espace Sainte Claire Commercial Center/Indigo Parking Garage on Level 0\, St Paul de Vence\, 06570\, France
CATEGORIES:Special Events
ATTACH;FMTTYPE=image/jpeg:https://ibcfrance.org/wp-content/uploads/2025/02/Valentine.jpg
END:VEVENT
BEGIN:VEVENT
DTSTART;TZID=Europe/Paris:20250223T123000
DTEND;TZID=Europe/Paris:20250223T140000
DTSTAMP:20260423T211139
CREATED:20250202T183835Z
LAST-MODIFIED:20250202T183835Z
UID:10003073-1740313800-1740319200@ibcfrance.org
SUMMARY:Annual General Meeting
DESCRIPTION:If you are a member of IBC St Paul\, please join us on February 23\, 2025 for our annual general meeting.  We need a quorum to address our business issues and to elect new members to our leadership team and as deacons.  This will take place immediately following the worship service.
URL:https://ibcfrance.org/event/annual-general-meeting/
LOCATION:IBC St Paul de Vence\, Rond Point Sainte Claire\, Espace Sainte Claire Commercial Center/Indigo Parking Garage on Level 0\, St Paul de Vence\, 06570\, France
CATEGORIES:Special Events
ATTACH;FMTTYPE=image/jpeg:https://ibcfrance.org/wp-content/uploads/2016/09/Annual-Meeting.jpeg
END:VEVENT
END:VCALENDAR