BEGIN:VCALENDAR
VERSION:2.0
PRODID:-//International Churches of Nice and St Paul de Vence - ECPv6.15.20//NONSGML v1.0//EN
CALSCALE:GREGORIAN
METHOD:PUBLISH
X-ORIGINAL-URL:https://ibcfrance.org
X-WR-CALDESC:Events for International Churches of Nice and St Paul de Vence
REFRESH-INTERVAL;VALUE=DURATION:PT1H
X-Robots-Tag:noindex
X-PUBLISHED-TTL:PT1H
BEGIN:VTIMEZONE
TZID:Europe/Paris
BEGIN:DAYLIGHT
TZOFFSETFROM:+0100
TZOFFSETTO:+0200
TZNAME:CEST
DTSTART:20240331T010000
END:DAYLIGHT
BEGIN:STANDARD
TZOFFSETFROM:+0200
TZOFFSETTO:+0100
TZNAME:CET
DTSTART:20241027T010000
END:STANDARD
BEGIN:DAYLIGHT
TZOFFSETFROM:+0100
TZOFFSETTO:+0200
TZNAME:CEST
DTSTART:20250330T010000
END:DAYLIGHT
BEGIN:STANDARD
TZOFFSETFROM:+0200
TZOFFSETTO:+0100
TZNAME:CET
DTSTART:20251026T010000
END:STANDARD
BEGIN:DAYLIGHT
TZOFFSETFROM:+0100
TZOFFSETTO:+0200
TZNAME:CEST
DTSTART:20260329T010000
END:DAYLIGHT
BEGIN:STANDARD
TZOFFSETFROM:+0200
TZOFFSETTO:+0100
TZNAME:CET
DTSTART:20261025T010000
END:STANDARD
END:VTIMEZONE
BEGIN:VEVENT
DTSTART;TZID=Europe/Paris:20250503T140000
DTEND;TZID=Europe/Paris:20250503T170000
DTSTAMP:20260423T225953
CREATED:20250420T142000Z
LAST-MODIFIED:20250420T142000Z
UID:10003299-1746280800-1746291600@ibcfrance.org
SUMMARY:Baby Shower for Mackenzie and Andrew
DESCRIPTION:
URL:https://ibcfrance.org/event/baby-shower-for-mackenzie-and-andrew/
LOCATION:IBC St Paul de Vence\, Rond Point Sainte Claire\, Espace Sainte Claire Commercial Center/Indigo Parking Garage on Level 0\, St Paul de Vence\, 06570\, France
CATEGORIES:Special Events
ATTACH;FMTTYPE=image/jpeg:https://ibcfrance.org/wp-content/uploads/2025/04/Mackenzie-Baby-Shower.jpg
END:VEVENT
BEGIN:VEVENT
DTSTART;TZID=Europe/Paris:20250517T093000
DTEND;TZID=Europe/Paris:20250517T120000
DTSTAMP:20260423T225953
CREATED:20250417T071636Z
LAST-MODIFIED:20250417T073206Z
UID:10003298-1747474200-1747483200@ibcfrance.org
SUMMARY:Women's Coffee and Fellowship
DESCRIPTION:Purpose/Goal: to strengthen and deepen our relationships with one another and pray for each other  \nTheme: Romans 5:5 “and hope does not put us to shame\, because God’s love has been poured into our hearts through the Holy Spirit who has been given to us.” \nAgenda:\n9:30-10:00 casual coffee and conversation\n10:15-11:00 testimonies from 2-3 women followed by small group discussion and sharing  \n11:00-11:45 prayer  for one another\n11:45-12:00 closing  \nPlease RSVP to women@ibcfrance.org or CLICK HERE and fill out the form.  \nFor more information reach out to Mo or Katja.
URL:https://ibcfrance.org/event/womens-coffee-and-fellowship/
LOCATION:IBC St Paul de Vence\, Rond Point Sainte Claire\, Espace Sainte Claire Commercial Center/Indigo Parking Garage on Level 0\, St Paul de Vence\, 06570\, France
CATEGORIES:Special Events
ATTACH;FMTTYPE=image/png:https://ibcfrance.org/wp-content/uploads/2025/04/Fathers-Love.png
END:VEVENT
BEGIN:VEVENT
DTSTART;TZID=Europe/Paris:20250531T100000
DTEND;TZID=Europe/Paris:20250531T120000
DTSTAMP:20260423T225953
CREATED:20250504T152625Z
LAST-MODIFIED:20250507T192648Z
UID:10003300-1748685600-1748692800@ibcfrance.org
SUMMARY:Art and Café
DESCRIPTION:Come join us for our next Art Café on Saturday\, May 31st\, 10-12h.\nMeet others\, explore your creative side & enjoy great coffee & pastries.\nFeel free to invite your friends!\nNo previous art experience necessary.\nAll materials will be provided.\nSuggested donation 10e.
URL:https://ibcfrance.org/event/art-and-cafe/
LOCATION:IBC St Paul de Vence\, Rond Point Sainte Claire\, Espace Sainte Claire Commercial Center/Indigo Parking Garage on Level 0\, St Paul de Vence\, 06570\, France
CATEGORIES:Special Events
ATTACH;FMTTYPE=image/jpeg:https://ibcfrance.org/wp-content/uploads/2025/05/Art-and-Cafe-053125.jpeg
END:VEVENT
END:VCALENDAR