BEGIN:VCALENDAR
VERSION:2.0
PRODID:-//International Churches of Nice and St Paul de Vence - ECPv6.15.20//NONSGML v1.0//EN
CALSCALE:GREGORIAN
METHOD:PUBLISH
X-ORIGINAL-URL:https://ibcfrance.org
X-WR-CALDESC:Events for International Churches of Nice and St Paul de Vence
REFRESH-INTERVAL;VALUE=DURATION:PT1H
X-Robots-Tag:noindex
X-PUBLISHED-TTL:PT1H
BEGIN:VTIMEZONE
TZID:Europe/Paris
BEGIN:DAYLIGHT
TZOFFSETFROM:+0100
TZOFFSETTO:+0200
TZNAME:CEST
DTSTART:20240331T010000
END:DAYLIGHT
BEGIN:STANDARD
TZOFFSETFROM:+0200
TZOFFSETTO:+0100
TZNAME:CET
DTSTART:20241027T010000
END:STANDARD
BEGIN:DAYLIGHT
TZOFFSETFROM:+0100
TZOFFSETTO:+0200
TZNAME:CEST
DTSTART:20250330T010000
END:DAYLIGHT
BEGIN:STANDARD
TZOFFSETFROM:+0200
TZOFFSETTO:+0100
TZNAME:CET
DTSTART:20251026T010000
END:STANDARD
BEGIN:DAYLIGHT
TZOFFSETFROM:+0100
TZOFFSETTO:+0200
TZNAME:CEST
DTSTART:20260329T010000
END:DAYLIGHT
BEGIN:STANDARD
TZOFFSETFROM:+0200
TZOFFSETTO:+0100
TZNAME:CET
DTSTART:20261025T010000
END:STANDARD
END:VTIMEZONE
BEGIN:VEVENT
DTSTART;TZID=Europe/Paris:20250419T130000
DTEND;TZID=Europe/Paris:20250419T160000
DTSTAMP:20260423T230105
CREATED:20250309T143908Z
LAST-MODIFIED:20250417T201643Z
UID:10003231-1745067600-1745078400@ibcfrance.org
SUMMARY:Easter Celebration - Nice and Monaco welcome
DESCRIPTION:Join us on Saturday\, April 19th for a time of celebration.  He is risen and He is definitely coming again! \nThis will take place in Pastor James’s yard.  Please bring food to share with others.  There will be games for kids\, and it will be a great time of fellowship. \nThis is also an outreach for us.  Please bring your friends!  We want to share the joy of our risen Lord!
URL:https://ibcfrance.org/event/easter-celebration-nice-and-monaco-welcome/
LOCATION:IBC Arnolds\, 550 Chemin de la Tour\, St Paul de Vence\, 06570\, France
CATEGORIES:Special Events
ATTACH;FMTTYPE=image/jpeg:https://ibcfrance.org/wp-content/uploads/2024/03/DSC_0978-scaled.jpg
END:VEVENT
END:VCALENDAR