BEGIN:VCALENDAR
VERSION:2.0
PRODID:-//International Churches of Nice and St Paul de Vence - ECPv6.15.20//NONSGML v1.0//EN
CALSCALE:GREGORIAN
METHOD:PUBLISH
X-WR-CALNAME:International Churches of Nice and St Paul de Vence
X-ORIGINAL-URL:https://ibcfrance.org
X-WR-CALDESC:Events for International Churches of Nice and St Paul de Vence
REFRESH-INTERVAL;VALUE=DURATION:PT1H
X-Robots-Tag:noindex
X-PUBLISHED-TTL:PT1H
BEGIN:VTIMEZONE
TZID:Europe/Paris
BEGIN:DAYLIGHT
TZOFFSETFROM:+0100
TZOFFSETTO:+0200
TZNAME:CEST
DTSTART:20230326T010000
END:DAYLIGHT
BEGIN:STANDARD
TZOFFSETFROM:+0200
TZOFFSETTO:+0100
TZNAME:CET
DTSTART:20231029T010000
END:STANDARD
BEGIN:DAYLIGHT
TZOFFSETFROM:+0100
TZOFFSETTO:+0200
TZNAME:CEST
DTSTART:20240331T010000
END:DAYLIGHT
BEGIN:STANDARD
TZOFFSETFROM:+0200
TZOFFSETTO:+0100
TZNAME:CET
DTSTART:20241027T010000
END:STANDARD
BEGIN:DAYLIGHT
TZOFFSETFROM:+0100
TZOFFSETTO:+0200
TZNAME:CEST
DTSTART:20250330T010000
END:DAYLIGHT
BEGIN:STANDARD
TZOFFSETFROM:+0200
TZOFFSETTO:+0100
TZNAME:CET
DTSTART:20251026T010000
END:STANDARD
END:VTIMEZONE
BEGIN:VEVENT
DTSTART;TZID=Europe/Paris:20240526T120000
DTEND;TZID=Europe/Paris:20240526T133000
DTSTAMP:20260425T172416
CREATED:20241222T160922Z
LAST-MODIFIED:20241222T160922Z
UID:10000245-1716724800-1716730200@ibcfrance.org
SUMMARY:Potluck Sunday St Paul
DESCRIPTION:On the 4th Sunday of every month\, we join together in fellowship after the service to enjoy a meal together.  Please bring food or drinks to share.   \nWe always need help setting up and cleaning up\, so please step in as you can.
URL:https://ibcfrance.org/event/potluck-sunday-st-paul/2024-05-26/
LOCATION:IBC St Paul de Vence\, Rond Point Sainte Claire\, Espace Sainte Claire Commercial Center/Indigo Parking Garage on Level 0\, St Paul de Vence\, 06570\, France
CATEGORIES:Special Events
END:VEVENT
BEGIN:VEVENT
DTSTART;TZID=Europe/Paris:20240601T100000
DTEND;TZID=Europe/Paris:20240601T120000
DTSTAMP:20260425T172416
CREATED:20241222T160939Z
LAST-MODIFIED:20241222T160939Z
UID:10001075-1717236000-1717243200@ibcfrance.org
SUMMARY:Art and Coffee / Art et café
DESCRIPTION:Join us for Art and Coffee. No art experience is necessary. Breakfast will be provided.  Kids are welcome\, but supervision is required. \nRejoignez-nous pour l’Art et le Café. Aucune expérience artistique n’est nécessaire. Le petit-déjeuner sera offert.  Les enfants sont les bienvenus\, mais une surveillance est nécessaire.
URL:https://ibcfrance.org/event/art-and-coffee/
LOCATION:IBC St Paul de Vence\, Rond Point Sainte Claire\, Espace Sainte Claire Commercial Center/Indigo Parking Garage on Level 0\, St Paul de Vence\, 06570\, France
CATEGORIES:Special Events
END:VEVENT
BEGIN:VEVENT
DTSTART;TZID=Europe/Paris:20240622T140000
DTEND;TZID=Europe/Paris:20240622T170000
DTSTAMP:20260425T172416
CREATED:20241222T160923Z
LAST-MODIFIED:20241222T160923Z
UID:10001495-1719064800-1719075600@ibcfrance.org
SUMMARY:Tweens Pool Party
DESCRIPTION:Tweens are invited to share an afternoon with Peter at Sabia in their pool.
URL:https://ibcfrance.org/event/teens-pool-party/
LOCATION:Chez Schwarzer\, 1153 Route des Quiniéres\, Tourettes sur Loup\, France
CATEGORIES:Special Events
ATTACH;FMTTYPE=image/jpeg:https://ibcfrance.org/wp-content/uploads/2024/06/1000023416.jpg
END:VEVENT
BEGIN:VEVENT
DTSTART;TZID=Europe/Paris:20240623T120000
DTEND;TZID=Europe/Paris:20240623T133000
DTSTAMP:20260425T172416
CREATED:20241222T160923Z
LAST-MODIFIED:20241222T160923Z
UID:10000246-1719144000-1719149400@ibcfrance.org
SUMMARY:Potluck Sunday St Paul /  Déjeuner "à la fortune du pot" à St. Paul
DESCRIPTION:On the 4th Sunday of every month\, we join together in fellowship after the service to enjoy a meal together.\nChaque quatrième dimanche du mois\, nous nous rassemblons après le culte pour déjeuner ensemble. \nPlease bring food or drinks to share.\nChacun apporte ce qu’il veut\, plat ou boisson\, que nous partageons  \nWe always need help setting up and cleaning up\, so please step in as you can.\nParfois nous avons besoin d’aide pour installer les tables…
URL:https://ibcfrance.org/event/potluck-sunday-st-paul-2/2024-06-23/
LOCATION:IBC St Paul de Vence\, Rond Point Sainte Claire\, Espace Sainte Claire Commercial Center/Indigo Parking Garage on Level 0\, St Paul de Vence\, 06570\, France
CATEGORIES:Special Events
ATTACH;FMTTYPE=image/jpeg:https://ibcfrance.org/wp-content/uploads/2024/06/DSC_1000-scaled.jpg
END:VEVENT
BEGIN:VEVENT
DTSTART;TZID=Europe/Paris:20240706T090000
DTEND;TZID=Europe/Paris:20240706T120000
DTSTAMP:20260425T172416
CREATED:20241222T160923Z
LAST-MODIFIED:20241222T160923Z
UID:10000006-1720256400-1720267200@ibcfrance.org
SUMMARY:1/2 day of Prayer - St Paul de Vence
DESCRIPTION:1 Thessalonians 5:16-18 reminds us:  Rejoice always\, pray without ceasing\, give thanks in all circumstances; for this is the will of God in Christ Jesus for you. \nIn following this command\, please join us for a 1/2 day of prayer.
URL:https://ibcfrance.org/event/evening-of-prayer-with-dinner-st-paul/
LOCATION:IBC St Paul de Vence\, Rond Point Sainte Claire\, Espace Sainte Claire Commercial Center/Indigo Parking Garage on Level 0\, St Paul de Vence\, 06570\, France
CATEGORIES:Special Events
ATTACH;FMTTYPE=image/jpeg:https://ibcfrance.org/wp-content/uploads/2024/06/holding-hands-752878_640-1.jpg
END:VEVENT
BEGIN:VEVENT
DTSTART;TZID=Europe/Paris:20240711T190000
DTEND;TZID=Europe/Paris:20240711T210000
DTSTAMP:20260425T172416
CREATED:20241222T160923Z
LAST-MODIFIED:20241222T160923Z
UID:10001500-1720724400-1720731600@ibcfrance.org
SUMMARY:Beach Party in Nice
DESCRIPTION:In summer\, we take a break from Thursday Thinkers and instead do a weekly beach party.  Join us at 1900 (7PM).  Bring some food or drink to share.   \nThis is a great time to meet and chat with other brothers and sisters in Christ.  \nIt is also a great time to bring your friends that have not yet placed their faith in Christ.  Everyone is welcome. \nThis is held on the beach\, where Boulevard Gambetta meets the sea.  Go down the steps and to the right\, and you will see a group gathered. \nWe look forward to seeing you.
URL:https://ibcfrance.org/event/beach-party-in-nice/2024-07-11/
CATEGORIES:Special Events
ATTACH;FMTTYPE=image/jpeg:https://ibcfrance.org/wp-content/uploads/2024/07/Nice-Beach-scaled.jpg
ORGANIZER;CN="Dave Stevenson":MAILTO:johnpaul@ibcfrance.org
END:VEVENT
BEGIN:VEVENT
DTSTART;TZID=Europe/Paris:20240716T180000
DTEND;TZID=Europe/Paris:20240716T210000
DTSTAMP:20260425T172416
CREATED:20241222T160923Z
LAST-MODIFIED:20241222T160923Z
UID:10001562-1721152800-1721163600@ibcfrance.org
SUMMARY:Summer Worldview Conference
DESCRIPTION:Charles Stolfus will be hosting a number of sessions in the evenings of July 16-18th. \nThis event will be held at the St Paul Church.  Nice and Monaco churches are invited as well. \nDinner and Childcare will be provided.   \nBecause we need to know how many people to feed\, we need you to register. \nREGISTER HERE
URL:https://ibcfrance.org/event/summer-worldview-conference/2024-07-16/
LOCATION:IBC St Paul de Vence\, Rond Point Sainte Claire\, Espace Sainte Claire Commercial Center/Indigo Parking Garage on Level 0\, St Paul de Vence\, 06570\, France
CATEGORIES:Special Events
ATTACH;FMTTYPE=image/jpeg:https://ibcfrance.org/wp-content/uploads/2024/07/charles-stolfus.jpeg
END:VEVENT
BEGIN:VEVENT
DTSTART;TZID=Europe/Paris:20240717T180000
DTEND;TZID=Europe/Paris:20240717T210000
DTSTAMP:20260425T172416
CREATED:20241222T160923Z
LAST-MODIFIED:20241222T160923Z
UID:10001563-1721239200-1721250000@ibcfrance.org
SUMMARY:Summer Worldview Conference
DESCRIPTION:Charles Stolfus will be hosting a number of sessions in the evenings of July 16-18th. \nThis event will be held at the St Paul Church.  Nice and Monaco churches are invited as well. \nDinner and Childcare will be provided.   \nBecause we need to know how many people to feed\, we need you to register. \nREGISTER HERE
URL:https://ibcfrance.org/event/summer-worldview-conference/2024-07-17/
LOCATION:IBC St Paul de Vence\, Rond Point Sainte Claire\, Espace Sainte Claire Commercial Center/Indigo Parking Garage on Level 0\, St Paul de Vence\, 06570\, France
CATEGORIES:Special Events
ATTACH;FMTTYPE=image/jpeg:https://ibcfrance.org/wp-content/uploads/2024/07/charles-stolfus.jpeg
END:VEVENT
BEGIN:VEVENT
DTSTART;TZID=Europe/Paris:20240718T180000
DTEND;TZID=Europe/Paris:20240718T210000
DTSTAMP:20260425T172416
CREATED:20241222T160923Z
LAST-MODIFIED:20241222T160923Z
UID:10001564-1721325600-1721336400@ibcfrance.org
SUMMARY:Summer Worldview Conference
DESCRIPTION:Charles Stolfus will be hosting a number of sessions in the evenings of July 16-18th. \nThis event will be held at the St Paul Church.  Nice and Monaco churches are invited as well. \nDinner and Childcare will be provided.   \nBecause we need to know how many people to feed\, we need you to register. \nREGISTER HERE
URL:https://ibcfrance.org/event/summer-worldview-conference/2024-07-18/
LOCATION:IBC St Paul de Vence\, Rond Point Sainte Claire\, Espace Sainte Claire Commercial Center/Indigo Parking Garage on Level 0\, St Paul de Vence\, 06570\, France
CATEGORIES:Special Events
ATTACH;FMTTYPE=image/jpeg:https://ibcfrance.org/wp-content/uploads/2024/07/charles-stolfus.jpeg
END:VEVENT
BEGIN:VEVENT
DTSTART;TZID=Europe/Paris:20240718T190000
DTEND;TZID=Europe/Paris:20240718T210000
DTSTAMP:20260425T172416
CREATED:20241222T160923Z
LAST-MODIFIED:20241222T160923Z
UID:10001501-1721329200-1721336400@ibcfrance.org
SUMMARY:Beach Party in Nice
DESCRIPTION:In summer\, we take a break from Thursday Thinkers and instead do a weekly beach party.  Join us at 1900 (7PM).  Bring some food or drink to share.   \nThis is a great time to meet and chat with other brothers and sisters in Christ.  \nIt is also a great time to bring your friends that have not yet placed their faith in Christ.  Everyone is welcome. \nThis is held on the beach\, where Boulevard Gambetta meets the sea.  Go down the steps and to the right\, and you will see a group gathered. \nWe look forward to seeing you.
URL:https://ibcfrance.org/event/beach-party-in-nice/2024-07-18/
CATEGORIES:Special Events
ATTACH;FMTTYPE=image/jpeg:https://ibcfrance.org/wp-content/uploads/2024/07/Nice-Beach-scaled.jpg
ORGANIZER;CN="Dave Stevenson":MAILTO:johnpaul@ibcfrance.org
END:VEVENT
BEGIN:VEVENT
DTSTART;TZID=Europe/Paris:20240722T093000
DTEND;TZID=Europe/Paris:20240722T130000
DTSTAMP:20260425T172416
CREATED:20241222T160923Z
LAST-MODIFIED:20241222T160923Z
UID:10001384-1721640600-1721653200@ibcfrance.org
SUMMARY:Kid's Bilingual Musical Club
DESCRIPTION:This is open for children ages 6-12.
URL:https://ibcfrance.org/event/kids-bilingual-musical-club/2024-07-22/
LOCATION:IBC St Paul de Vence\, Rond Point Sainte Claire\, Espace Sainte Claire Commercial Center/Indigo Parking Garage on Level 0\, St Paul de Vence\, 06570\, France
CATEGORIES:Special Events
ATTACH;FMTTYPE=image/jpeg:https://ibcfrance.org/wp-content/uploads/2024/06/Music-Kids-Club-Flyer-2-scaled.jpg
ORGANIZER;CN="Dave Stevenson":MAILTO:johnpaul@ibcfrance.org
END:VEVENT
BEGIN:VEVENT
DTSTART;TZID=Europe/Paris:20240723T093000
DTEND;TZID=Europe/Paris:20240723T130000
DTSTAMP:20260425T172416
CREATED:20241222T160923Z
LAST-MODIFIED:20241222T160923Z
UID:10001385-1721727000-1721739600@ibcfrance.org
SUMMARY:Kid's Bilingual Musical Club
DESCRIPTION:This is open for children ages 6-12.
URL:https://ibcfrance.org/event/kids-bilingual-musical-club/2024-07-23/
LOCATION:IBC St Paul de Vence\, Rond Point Sainte Claire\, Espace Sainte Claire Commercial Center/Indigo Parking Garage on Level 0\, St Paul de Vence\, 06570\, France
CATEGORIES:Special Events
ATTACH;FMTTYPE=image/jpeg:https://ibcfrance.org/wp-content/uploads/2024/06/Music-Kids-Club-Flyer-2-scaled.jpg
ORGANIZER;CN="Dave Stevenson":MAILTO:johnpaul@ibcfrance.org
END:VEVENT
BEGIN:VEVENT
DTSTART;TZID=Europe/Paris:20240724T093000
DTEND;TZID=Europe/Paris:20240724T130000
DTSTAMP:20260425T172417
CREATED:20241222T160923Z
LAST-MODIFIED:20241222T160923Z
UID:10001386-1721813400-1721826000@ibcfrance.org
SUMMARY:Kid's Bilingual Musical Club
DESCRIPTION:This is open for children ages 6-12.
URL:https://ibcfrance.org/event/kids-bilingual-musical-club/2024-07-24/
LOCATION:IBC St Paul de Vence\, Rond Point Sainte Claire\, Espace Sainte Claire Commercial Center/Indigo Parking Garage on Level 0\, St Paul de Vence\, 06570\, France
CATEGORIES:Special Events
ATTACH;FMTTYPE=image/jpeg:https://ibcfrance.org/wp-content/uploads/2024/06/Music-Kids-Club-Flyer-2-scaled.jpg
ORGANIZER;CN="Dave Stevenson":MAILTO:johnpaul@ibcfrance.org
END:VEVENT
BEGIN:VEVENT
DTSTART;TZID=Europe/Paris:20240725T093000
DTEND;TZID=Europe/Paris:20240725T130000
DTSTAMP:20260425T172417
CREATED:20241222T160923Z
LAST-MODIFIED:20241222T160923Z
UID:10001387-1721899800-1721912400@ibcfrance.org
SUMMARY:Kid's Bilingual Musical Club
DESCRIPTION:This is open for children ages 6-12.
URL:https://ibcfrance.org/event/kids-bilingual-musical-club/2024-07-25/
LOCATION:IBC St Paul de Vence\, Rond Point Sainte Claire\, Espace Sainte Claire Commercial Center/Indigo Parking Garage on Level 0\, St Paul de Vence\, 06570\, France
CATEGORIES:Special Events
ATTACH;FMTTYPE=image/jpeg:https://ibcfrance.org/wp-content/uploads/2024/06/Music-Kids-Club-Flyer-2-scaled.jpg
ORGANIZER;CN="Dave Stevenson":MAILTO:johnpaul@ibcfrance.org
END:VEVENT
BEGIN:VEVENT
DTSTART;TZID=Europe/Paris:20240725T190000
DTEND;TZID=Europe/Paris:20240725T210000
DTSTAMP:20260425T172417
CREATED:20241222T160923Z
LAST-MODIFIED:20241222T160923Z
UID:10001502-1721934000-1721941200@ibcfrance.org
SUMMARY:Beach Party in Nice
DESCRIPTION:In summer\, we take a break from Thursday Thinkers and instead do a weekly beach party.  Join us at 1900 (7PM).  Bring some food or drink to share.   \nThis is a great time to meet and chat with other brothers and sisters in Christ.  \nIt is also a great time to bring your friends that have not yet placed their faith in Christ.  Everyone is welcome. \nThis is held on the beach\, where Boulevard Gambetta meets the sea.  Go down the steps and to the right\, and you will see a group gathered. \nWe look forward to seeing you.
URL:https://ibcfrance.org/event/beach-party-in-nice/2024-07-25/
CATEGORIES:Special Events
ATTACH;FMTTYPE=image/jpeg:https://ibcfrance.org/wp-content/uploads/2024/07/Nice-Beach-scaled.jpg
ORGANIZER;CN="Dave Stevenson":MAILTO:johnpaul@ibcfrance.org
END:VEVENT
BEGIN:VEVENT
DTSTART;TZID=Europe/Paris:20240726T093000
DTEND;TZID=Europe/Paris:20240726T130000
DTSTAMP:20260425T172417
CREATED:20241222T160923Z
LAST-MODIFIED:20241222T160923Z
UID:10001388-1721986200-1721998800@ibcfrance.org
SUMMARY:Kid's Bilingual Musical Club
DESCRIPTION:This is open for children ages 6-12.
URL:https://ibcfrance.org/event/kids-bilingual-musical-club/2024-07-26/
LOCATION:IBC St Paul de Vence\, Rond Point Sainte Claire\, Espace Sainte Claire Commercial Center/Indigo Parking Garage on Level 0\, St Paul de Vence\, 06570\, France
CATEGORIES:Special Events
ATTACH;FMTTYPE=image/jpeg:https://ibcfrance.org/wp-content/uploads/2024/06/Music-Kids-Club-Flyer-2-scaled.jpg
ORGANIZER;CN="Dave Stevenson":MAILTO:johnpaul@ibcfrance.org
END:VEVENT
BEGIN:VEVENT
DTSTART;TZID=Europe/Paris:20240728T120000
DTEND;TZID=Europe/Paris:20240728T133000
DTSTAMP:20260425T172417
CREATED:20241222T160923Z
LAST-MODIFIED:20241222T160923Z
UID:10000247-1722168000-1722173400@ibcfrance.org
SUMMARY:Potluck Sunday St Paul /  Déjeuner "à la fortune du pot" à St. Paul
DESCRIPTION:On the 4th Sunday of every month\, we join together in fellowship after the service to enjoy a meal together.\nChaque quatrième dimanche du mois\, nous nous rassemblons après le culte pour déjeuner ensemble. \nPlease bring food or drinks to share.\nChacun apporte ce qu’il veut\, plat ou boisson\, que nous partageons  \nWe always need help setting up and cleaning up\, so please step in as you can.\nParfois nous avons besoin d’aide pour installer les tables…
URL:https://ibcfrance.org/event/potluck-sunday-st-paul-2/2024-07-28/
LOCATION:IBC St Paul de Vence\, Rond Point Sainte Claire\, Espace Sainte Claire Commercial Center/Indigo Parking Garage on Level 0\, St Paul de Vence\, 06570\, France
CATEGORIES:Special Events
ATTACH;FMTTYPE=image/jpeg:https://ibcfrance.org/wp-content/uploads/2024/06/DSC_1000-scaled.jpg
END:VEVENT
BEGIN:VEVENT
DTSTART;TZID=Europe/Paris:20240801T190000
DTEND;TZID=Europe/Paris:20240801T210000
DTSTAMP:20260425T172417
CREATED:20241222T160923Z
LAST-MODIFIED:20241222T160923Z
UID:10001503-1722538800-1722546000@ibcfrance.org
SUMMARY:Beach Party in Nice
DESCRIPTION:In summer\, we take a break from Thursday Thinkers and instead do a weekly beach party.  Join us at 1900 (7PM).  Bring some food or drink to share.   \nThis is a great time to meet and chat with other brothers and sisters in Christ.  \nIt is also a great time to bring your friends that have not yet placed their faith in Christ.  Everyone is welcome. \nThis is held on the beach\, where Boulevard Gambetta meets the sea.  Go down the steps and to the right\, and you will see a group gathered. \nWe look forward to seeing you.
URL:https://ibcfrance.org/event/beach-party-in-nice/2024-08-01/
CATEGORIES:Special Events
ATTACH;FMTTYPE=image/jpeg:https://ibcfrance.org/wp-content/uploads/2024/07/Nice-Beach-scaled.jpg
ORGANIZER;CN="Dave Stevenson":MAILTO:johnpaul@ibcfrance.org
END:VEVENT
BEGIN:VEVENT
DTSTART;TZID=Europe/Paris:20240808T190000
DTEND;TZID=Europe/Paris:20240808T210000
DTSTAMP:20260425T172417
CREATED:20241222T160923Z
LAST-MODIFIED:20241222T160923Z
UID:10001504-1723143600-1723150800@ibcfrance.org
SUMMARY:Beach Party in Nice
DESCRIPTION:In summer\, we take a break from Thursday Thinkers and instead do a weekly beach party.  Join us at 1900 (7PM).  Bring some food or drink to share.   \nThis is a great time to meet and chat with other brothers and sisters in Christ.  \nIt is also a great time to bring your friends that have not yet placed their faith in Christ.  Everyone is welcome. \nThis is held on the beach\, where Boulevard Gambetta meets the sea.  Go down the steps and to the right\, and you will see a group gathered. \nWe look forward to seeing you.
URL:https://ibcfrance.org/event/beach-party-in-nice/2024-08-08/
CATEGORIES:Special Events
ATTACH;FMTTYPE=image/jpeg:https://ibcfrance.org/wp-content/uploads/2024/07/Nice-Beach-scaled.jpg
ORGANIZER;CN="Dave Stevenson":MAILTO:johnpaul@ibcfrance.org
END:VEVENT
BEGIN:VEVENT
DTSTART;TZID=Europe/Paris:20240815T190000
DTEND;TZID=Europe/Paris:20240815T210000
DTSTAMP:20260425T172417
CREATED:20241222T160923Z
LAST-MODIFIED:20241222T160923Z
UID:10001505-1723748400-1723755600@ibcfrance.org
SUMMARY:Beach Party in Nice
DESCRIPTION:In summer\, we take a break from Thursday Thinkers and instead do a weekly beach party.  Join us at 1900 (7PM).  Bring some food or drink to share.   \nThis is a great time to meet and chat with other brothers and sisters in Christ.  \nIt is also a great time to bring your friends that have not yet placed their faith in Christ.  Everyone is welcome. \nThis is held on the beach\, where Boulevard Gambetta meets the sea.  Go down the steps and to the right\, and you will see a group gathered. \nWe look forward to seeing you.
URL:https://ibcfrance.org/event/beach-party-in-nice/2024-08-15/
CATEGORIES:Special Events
ATTACH;FMTTYPE=image/jpeg:https://ibcfrance.org/wp-content/uploads/2024/07/Nice-Beach-scaled.jpg
ORGANIZER;CN="Dave Stevenson":MAILTO:johnpaul@ibcfrance.org
END:VEVENT
BEGIN:VEVENT
DTSTART;TZID=Europe/Paris:20240817T100000
DTEND;TZID=Europe/Paris:20240817T120000
DTSTAMP:20260425T172417
CREATED:20241222T160923Z
LAST-MODIFIED:20241222T160923Z
UID:10001565-1723888800-1723896000@ibcfrance.org
SUMMARY:Art Café
DESCRIPTION:Our next Art Café will be on Saturday\, August 17th\, 10-12h at the St Paul church. \nCome and meet others\, explore your creative side & enjoy great coffee & pastries. \nFeel free to invite your friends!   \nNo previous art experience necessary. \nAll material will be provided. \nSuggested donation 10 euros.
URL:https://ibcfrance.org/event/art-cafe-2/
LOCATION:IBC St Paul de Vence\, Rond Point Sainte Claire\, Espace Sainte Claire Commercial Center/Indigo Parking Garage on Level 0\, St Paul de Vence\, 06570\, France
CATEGORIES:Special Events
ATTACH;FMTTYPE=image/jpeg:https://ibcfrance.org/wp-content/uploads/2024/08/ArtCafe.jpg
END:VEVENT
BEGIN:VEVENT
DTSTART;TZID=Europe/Paris:20240822T190000
DTEND;TZID=Europe/Paris:20240822T210000
DTSTAMP:20260425T172417
CREATED:20241222T160923Z
LAST-MODIFIED:20241222T160923Z
UID:10001506-1724353200-1724360400@ibcfrance.org
SUMMARY:Beach Party in Nice
DESCRIPTION:In summer\, we take a break from Thursday Thinkers and instead do a weekly beach party.  Join us at 1900 (7PM).  Bring some food or drink to share.   \nThis is a great time to meet and chat with other brothers and sisters in Christ.  \nIt is also a great time to bring your friends that have not yet placed their faith in Christ.  Everyone is welcome. \nThis is held on the beach\, where Boulevard Gambetta meets the sea.  Go down the steps and to the right\, and you will see a group gathered. \nWe look forward to seeing you.
URL:https://ibcfrance.org/event/beach-party-in-nice/2024-08-22/
CATEGORIES:Special Events
ATTACH;FMTTYPE=image/jpeg:https://ibcfrance.org/wp-content/uploads/2024/07/Nice-Beach-scaled.jpg
ORGANIZER;CN="Dave Stevenson":MAILTO:johnpaul@ibcfrance.org
END:VEVENT
BEGIN:VEVENT
DTSTART;TZID=Europe/Paris:20240825T120000
DTEND;TZID=Europe/Paris:20240825T133000
DTSTAMP:20260425T172417
CREATED:20241222T160923Z
LAST-MODIFIED:20241222T160923Z
UID:10000248-1724587200-1724592600@ibcfrance.org
SUMMARY:Potluck Sunday St Paul /  Déjeuner "à la fortune du pot" à St. Paul
DESCRIPTION:On the 4th Sunday of every month\, we join together in fellowship after the service to enjoy a meal together.\nChaque quatrième dimanche du mois\, nous nous rassemblons après le culte pour déjeuner ensemble. \nPlease bring food or drinks to share.\nChacun apporte ce qu’il veut\, plat ou boisson\, que nous partageons  \nWe always need help setting up and cleaning up\, so please step in as you can.\nParfois nous avons besoin d’aide pour installer les tables…
URL:https://ibcfrance.org/event/potluck-sunday-st-paul-2/2024-08-25/
LOCATION:IBC St Paul de Vence\, Rond Point Sainte Claire\, Espace Sainte Claire Commercial Center/Indigo Parking Garage on Level 0\, St Paul de Vence\, 06570\, France
CATEGORIES:Special Events
ATTACH;FMTTYPE=image/jpeg:https://ibcfrance.org/wp-content/uploads/2024/06/DSC_1000-scaled.jpg
END:VEVENT
BEGIN:VEVENT
DTSTART;TZID=Europe/Paris:20240829T190000
DTEND;TZID=Europe/Paris:20240829T210000
DTSTAMP:20260425T172417
CREATED:20241222T160923Z
LAST-MODIFIED:20241222T160923Z
UID:10001507-1724958000-1724965200@ibcfrance.org
SUMMARY:Beach Party in Nice
DESCRIPTION:In summer\, we take a break from Thursday Thinkers and instead do a weekly beach party.  Join us at 1900 (7PM).  Bring some food or drink to share.   \nThis is a great time to meet and chat with other brothers and sisters in Christ.  \nIt is also a great time to bring your friends that have not yet placed their faith in Christ.  Everyone is welcome. \nThis is held on the beach\, where Boulevard Gambetta meets the sea.  Go down the steps and to the right\, and you will see a group gathered. \nWe look forward to seeing you.
URL:https://ibcfrance.org/event/beach-party-in-nice/2024-08-29/
CATEGORIES:Special Events
ATTACH;FMTTYPE=image/jpeg:https://ibcfrance.org/wp-content/uploads/2024/07/Nice-Beach-scaled.jpg
ORGANIZER;CN="Dave Stevenson":MAILTO:johnpaul@ibcfrance.org
END:VEVENT
BEGIN:VEVENT
DTSTART;TZID=Europe/Paris:20240831T190000
DTEND;TZID=Europe/Paris:20240831T220000
DTSTAMP:20260425T172417
CREATED:20241222T160923Z
LAST-MODIFIED:20241222T160923Z
UID:10001566-1725130800-1725141600@ibcfrance.org
SUMMARY:Tweens Back to School Party
DESCRIPTION:If you are tween\, then join your friends\, and invite some\, for a back to school party.  This will be held at Peter and Sabia’s house.
URL:https://ibcfrance.org/event/tweens-back-to-school-party/
LOCATION:Chez Schwarzer\, 1153 Route des Quiniéres\, Tourettes sur Loup\, France
CATEGORIES:Special Events
ATTACH;FMTTYPE=image/jpeg:https://ibcfrance.org/wp-content/uploads/2024/08/Tweens-Back-to-School.jpg
END:VEVENT
BEGIN:VEVENT
DTSTART;TZID=Europe/Paris:20241005T173000
DTEND;TZID=Europe/Paris:20241005T213000
DTSTAMP:20260425T172417
CREATED:20241222T160959Z
LAST-MODIFIED:20241222T160959Z
UID:10001496-1728149400-1728163800@ibcfrance.org
SUMMARY:Praise and Prayer / Music Worship - St Paul de Vence (Nice and Monaco welcome)
DESCRIPTION:Come be encouraged! Join us for an uplifting evening of praise and prayer on October 5\, 6:30-9:30pm. We will intercede for one another\, hear testimonies from one another of what God has done\, and worship the Lord in song. In gratitude we will listen to his voice and ask Him to align our hearts with his perfect will for our families\, communities\, and our church. \nThere is an optional dinner for those who register.  Click here to REGISTER \nThis time\, the leaders will be incorporating singing\, with the prayer time to support further praise.
URL:https://ibcfrance.org/event/1-2-day-of-prayer-music-worship-st-paul-de-vence/
LOCATION:IBC St Paul de Vence\, Rond Point Sainte Claire\, Espace Sainte Claire Commercial Center/Indigo Parking Garage on Level 0\, St Paul de Vence\, 06570\, France
CATEGORIES:Special Events
ATTACH;FMTTYPE=image/jpeg:https://ibcfrance.org/wp-content/uploads/2024/06/slide-for-half-day-prayer-Oct-5.jpg
END:VEVENT
BEGIN:VEVENT
DTSTART;TZID=Europe/Paris:20241026T130000
DTEND;TZID=Europe/Paris:20241026T160000
DTSTAMP:20260425T172417
CREATED:20241222T160959Z
LAST-MODIFIED:20241222T160959Z
UID:10001589-1729947600-1729958400@ibcfrance.org
SUMMARY:Autumn Harvest Festival
DESCRIPTION:IBC’s Annual Harvest Festival \nCome and join the fall fun! \nThere will be games\, snacks\, music\, Chili con carne cook-off and Bake-off. \nIf you would like to compete in one or both of the cook-off contests\, please scan the QR code and register for the competition. \nBring friends and enjoy the fellowship
URL:https://ibcfrance.org/event/autumn-harvest-festival/
LOCATION:IBC Arnolds\, 550 Chemin de la Tour\, St Paul de Vence\, 06570\, France
CATEGORIES:Special Events
ATTACH;FMTTYPE=image/jpeg:https://ibcfrance.org/wp-content/uploads/2024/09/Harvest-Festival-102624.jpg
END:VEVENT
BEGIN:VEVENT
DTSTART;TZID=Europe/Paris:20241109T130000
DTEND;TZID=Europe/Paris:20241109T160000
DTSTAMP:20260425T172417
CREATED:20241222T160940Z
LAST-MODIFIED:20241222T160940Z
UID:10002214-1731157200-1731168000@ibcfrance.org
SUMMARY:Autumn Harvest Festival /  Festival annuel des récoltes du IBC
DESCRIPTION:IBC’s Annual Harvest Festival / Festival annuel des récoltes du IBC \nCome and join the fall fun!\nVenez vous amuser à l’automne ! \nThere will be games\, snacks\, music\, Chili con carne cook-off and Bake-off.\nIl y aura des jeux\, des collations\, de la musique\, un concours de chili con carne et un concours de pâtisserie. \nIf you would like to compete in one or both of the cook-off contests\, please scan the QR code and register for the competition.\nSi vous souhaitez participer à l’un des concours de cuisine ou aux deux\, veuillez scanner le code QR et vous inscrire à la compétition. \nBring friends and enjoy the fellowship!\nAmenez vos amis et profitez de la fraternité !
URL:https://ibcfrance.org/event/autumn-harvest-festival-2/
LOCATION:IBC Arnolds\, 550 Chemin de la Tour\, St Paul de Vence\, 06570\, France
CATEGORIES:Special Events
ATTACH;FMTTYPE=image/jpeg:https://ibcfrance.org/wp-content/uploads/2024/11/Harvest-Fest-110924.jpeg
END:VEVENT
BEGIN:VEVENT
DTSTART;TZID=Europe/Paris:20241201T123000
DTEND;TZID=Europe/Paris:20241201T143000
DTSTAMP:20260425T172417
CREATED:20241222T160940Z
LAST-MODIFIED:20241222T160940Z
UID:10001587-1733056200-1733063400@ibcfrance.org
SUMMARY:Thanksgiving Celebration
DESCRIPTION:Potluck Sunday turns into Thanksgiving celebration.   \nPlease join us after the worship service to celebrate and fellowship with others. \nEveryone should bring something to share. \nLooking forward to seeing you there.
URL:https://ibcfrance.org/event/thanksgiving-celebration/
LOCATION:IBC St Paul de Vence\, Rond Point Sainte Claire\, Espace Sainte Claire Commercial Center/Indigo Parking Garage on Level 0\, St Paul de Vence\, 06570\, France
CATEGORIES:Special Events
ATTACH;FMTTYPE=image/jpeg:https://ibcfrance.org/wp-content/uploads/2024/09/Turkey-scaled.jpg
END:VEVENT
BEGIN:VEVENT
DTSTART;TZID=Europe/Paris:20241224T173000
DTEND;TZID=Europe/Paris:20241224T190000
DTSTAMP:20260425T172417
CREATED:20241127T173634Z
LAST-MODIFIED:20241222T160518Z
UID:10002215-1735061400-1735066800@ibcfrance.org
SUMMARY:Christmas Eve Service St Paul - In person and on-line
DESCRIPTION:
URL:https://ibcfrance.org/event/christmas-eve-service-st-paul/
LOCATION:IBC St Paul de Vence\, Rond Point Sainte Claire\, Espace Sainte Claire Commercial Center/Indigo Parking Garage on Level 0\, St Paul de Vence\, 06570\, France
CATEGORIES:Special Events
ATTACH;FMTTYPE=image/jpeg:https://ibcfrance.org/wp-content/uploads/2024/11/Nativity.jpg
END:VEVENT
END:VCALENDAR