BEGIN:VCALENDAR
VERSION:2.0
PRODID:-//International Churches of Nice and St Paul de Vence - ECPv6.15.20//NONSGML v1.0//EN
CALSCALE:GREGORIAN
METHOD:PUBLISH
X-WR-CALNAME:International Churches of Nice and St Paul de Vence
X-ORIGINAL-URL:https://ibcfrance.org
X-WR-CALDESC:Events for International Churches of Nice and St Paul de Vence
REFRESH-INTERVAL;VALUE=DURATION:PT1H
X-Robots-Tag:noindex
X-PUBLISHED-TTL:PT1H
BEGIN:VTIMEZONE
TZID:Europe/Paris
BEGIN:DAYLIGHT
TZOFFSETFROM:+0100
TZOFFSETTO:+0200
TZNAME:CEST
DTSTART:20240331T010000
END:DAYLIGHT
BEGIN:STANDARD
TZOFFSETFROM:+0200
TZOFFSETTO:+0100
TZNAME:CET
DTSTART:20241027T010000
END:STANDARD
BEGIN:DAYLIGHT
TZOFFSETFROM:+0100
TZOFFSETTO:+0200
TZNAME:CEST
DTSTART:20250330T010000
END:DAYLIGHT
BEGIN:STANDARD
TZOFFSETFROM:+0200
TZOFFSETTO:+0100
TZNAME:CET
DTSTART:20251026T010000
END:STANDARD
BEGIN:DAYLIGHT
TZOFFSETFROM:+0100
TZOFFSETTO:+0200
TZNAME:CEST
DTSTART:20260329T010000
END:DAYLIGHT
BEGIN:STANDARD
TZOFFSETFROM:+0200
TZOFFSETTO:+0100
TZNAME:CET
DTSTART:20261025T010000
END:STANDARD
BEGIN:DAYLIGHT
TZOFFSETFROM:+0100
TZOFFSETTO:+0200
TZNAME:CEST
DTSTART:20270328T010000
END:DAYLIGHT
BEGIN:STANDARD
TZOFFSETFROM:+0200
TZOFFSETTO:+0100
TZNAME:CET
DTSTART:20271031T010000
END:STANDARD
END:VTIMEZONE
BEGIN:VEVENT
DTSTART;TZID=Europe/Paris:20251129T140000
DTEND;TZID=Europe/Paris:20251129T170000
DTSTAMP:20260424T005348
CREATED:20251109T135845Z
LAST-MODIFIED:20251109T135845Z
UID:10004040-1764424800-1764435600@ibcfrance.org
SUMMARY:Baby Shower for Nahida and Josh
DESCRIPTION:Please join us for a baby shower.  In order to plan accordingly\, please RSVP to Amanda or Paula.  \nThere is a wishlist QR code available as well.
URL:https://ibcfrance.org/event/baby-shower-for-nahida-and-josh/
LOCATION:IBC St Paul de Vence\, Rond Point Sainte Claire\, Espace Sainte Claire Commercial Center/Indigo Parking Garage on Level 0\, St Paul de Vence\, 06570\, France
CATEGORIES:Special Events
ATTACH;FMTTYPE=image/jpeg:https://ibcfrance.org/wp-content/uploads/2025/11/Baby-Shower-112925.jpg
END:VEVENT
BEGIN:VEVENT
DTSTART;TZID=Europe/Paris:20251130T123000
DTEND;TZID=Europe/Paris:20251130T140000
DTSTAMP:20260424T005348
CREATED:20251107T090800Z
LAST-MODIFIED:20251107T090800Z
UID:10004030-1764505800-1764511200@ibcfrance.org
SUMMARY:Thanksgiving Celebration / Fête de Thanksgiving
DESCRIPTION:Instead of the normal potluck on the 24th\, which we are now canceling\, we will come together on November 30th after the service to share a meal together and celebrate Thanksgiving. \nPlease bring food to share.  Turkeys will be provided. \nWe look forward to celebrating this holiday with you! \nAu lieu du repas-partage habituel du 24\, que nous annulons\, nous nous réunirons le 30 novembre après le service pour partager un repas et célébrer Thanksgiving. \nVeuillez apporter de la nourriture à partager.  Les dindes seront fournies. \nNous sommes impatients de célébrer cette fête avec vous !
URL:https://ibcfrance.org/event/thanksgiving-celebration-fete-de-thanksgiving/
LOCATION:IBC St Paul de Vence\, Rond Point Sainte Claire\, Espace Sainte Claire Commercial Center/Indigo Parking Garage on Level 0\, St Paul de Vence\, 06570\, France
CATEGORIES:Special Events
ATTACH;FMTTYPE=image/jpeg:https://ibcfrance.org/wp-content/uploads/2024/09/Turkey-scaled.jpg
END:VEVENT
BEGIN:VEVENT
DTSTART;TZID=Europe/Paris:20251212T190000
DTEND;TZID=Europe/Paris:20251212T210000
DTSTAMP:20260424T005349
CREATED:20251117T112221Z
LAST-MODIFIED:20251130T211319Z
UID:10004042-1765566000-1765573200@ibcfrance.org
SUMMARY:Christmas Caroling / Chants de Noël
DESCRIPTION:Join us on December 12th at 19h00 at the St Paul de Vence Church.  We will be singing and enjoying warm drinks and snacks.  Invite your friends.  Nice and Monaco are also welcome. \nRejoignez-nous le 12 décembre à 19h00 à l’église de Saint-Paul-de-Vence.  Nous chanterons et dégusterons des boissons chaudes et des collations.  Invitez vos amis.  Les habitants de Nice et Monaco sont également les bienvenus.
URL:https://ibcfrance.org/event/christmas-caroling-in-vence-2/
CATEGORIES:Special Events
ATTACH;FMTTYPE=image/jpeg:https://ibcfrance.org/wp-content/uploads/2024/09/Christmas-Caroling.jpeg
END:VEVENT
BEGIN:VEVENT
DTSTART;TZID=Europe/Paris:20260131T100000
DTEND;TZID=Europe/Paris:20260131T120000
DTSTAMP:20260424T005349
CREATED:20260115T162431Z
LAST-MODIFIED:20260115T162431Z
UID:10004056-1769853600-1769860800@ibcfrance.org
SUMMARY:Art Cafe
DESCRIPTION:Our next Art Cafe will be on Saturday January 31st! Feel free to invite your friends and pray for people that will come. \nNo art experience needed.  Supplies are provided.
URL:https://ibcfrance.org/event/art-cafe-3/
LOCATION:IBC St Paul de Vence\, Rond Point Sainte Claire\, Espace Sainte Claire Commercial Center/Indigo Parking Garage on Level 0\, St Paul de Vence\, 06570\, France
CATEGORIES:Special Events
ATTACH;FMTTYPE=image/jpeg:https://ibcfrance.org/wp-content/uploads/2026/01/Art-Cafe-013126.jpeg
END:VEVENT
BEGIN:VEVENT
DTSTART;TZID=Europe/Paris:20260301T123000
DTEND;TZID=Europe/Paris:20260301T140000
DTSTAMP:20260424T005349
CREATED:20260131T173915Z
LAST-MODIFIED:20260217T102328Z
UID:10004066-1772368200-1772373600@ibcfrance.org
SUMMARY:Annual General Business Meeting
DESCRIPTION:On Sunday\, March 1\, 2026\, immediately following the worship service\, we will have our annual business meeting. If you are a church member\, we ask you to please join us so that we can have a quorum.  If you are unable to to attend\, then please fill out a proxy form and return it\, so that you may be able to vote. \nThis year\, in order to streamline the meeting\, we are asking that you submit your questions in advance. This will allow the leadership team time to study the questions so as to provide better answers. \nYou will find the form and all relevant documents at https://ibcfrance.org/agm
URL:https://ibcfrance.org/event/annual-general-business-meeting/
LOCATION:IBC St Paul de Vence\, Rond Point Sainte Claire\, Espace Sainte Claire Commercial Center/Indigo Parking Garage on Level 0\, St Paul de Vence\, 06570\, France
CATEGORIES:Special Events
ATTACH;FMTTYPE=image/jpeg:https://ibcfrance.org/wp-content/uploads/2016/09/Annual-Meeting.jpeg
END:VEVENT
BEGIN:VEVENT
DTSTART;TZID=Europe/Paris:20260328T100000
DTEND;TZID=Europe/Paris:20260328T120000
DTSTAMP:20260424T005349
CREATED:20260315T190854Z
LAST-MODIFIED:20260323T104609Z
UID:10004349-1774692000-1774699200@ibcfrance.org
SUMMARY:Kintsugi Workshop
DESCRIPTION:Please note that this event is for women only.  You also need to reply to Jazzie as the number of spaces is limited.
URL:https://ibcfrance.org/event/kintsugi-workshop/
LOCATION:IBC St Paul de Vence\, Rond Point Sainte Claire\, Espace Sainte Claire Commercial Center/Indigo Parking Garage on Level 0\, St Paul de Vence\, 06570\, France
CATEGORIES:Special Events
ATTACH;FMTTYPE=image/jpeg:https://ibcfrance.org/wp-content/uploads/2026/03/Kintsugi-Workshop-032826-1.jpg
END:VEVENT
BEGIN:VEVENT
DTSTART;TZID=Europe/Paris:20260403T190000
DTEND;TZID=Europe/Paris:20260403T203000
DTSTAMP:20260424T005349
CREATED:20260315T190551Z
LAST-MODIFIED:20260315T190551Z
UID:10004348-1775242800-1775248200@ibcfrance.org
SUMMARY:Good Friday Service / Culte du Vendredi saint
DESCRIPTION:
URL:https://ibcfrance.org/event/good-friday-service-culte-du-vendredi-saint/
LOCATION:IBC St Paul de Vence\, Rond Point Sainte Claire\, Espace Sainte Claire Commercial Center/Indigo Parking Garage on Level 0\, St Paul de Vence\, 06570\, France
CATEGORIES:Special Events
ATTACH;FMTTYPE=image/jpeg:https://ibcfrance.org/wp-content/uploads/2026/03/Good-Friday-Service-040326.jpg
END:VEVENT
BEGIN:VEVENT
DTSTART;TZID=Europe/Paris:20260502T140000
DTEND;TZID=Europe/Paris:20260502T170000
DTSTAMP:20260424T005349
CREATED:20260405T172219Z
LAST-MODIFIED:20260405T172219Z
UID:10004353-1777730400-1777741200@ibcfrance.org
SUMMARY:Spring Festival / Fête du printemps
DESCRIPTION:Please join us for an afternoon of fellowship.  Food and drinks are provided.  There will be lots of fun and games for the kids.  Invite your friends.  Nice and Monaco are welcome. \nRejoignez-nous pour un après-midi convivial. La nourriture et les boissons sont offertes. De nombreuses activités ludiques et des jeux attendent les enfants. Invitez vos amis. Les Églises de Nice et de Monaco sont les bienvenus. \n  \n 
URL:https://ibcfrance.org/event/spring-festival-fete-du-printemps/
LOCATION:IBC Arnolds\, 550 Chemin de la Tour\, St Paul de Vence\, 06570\, France
CATEGORIES:Special Events
ATTACH;FMTTYPE=image/jpeg:https://ibcfrance.org/wp-content/uploads/2026/04/Spring-Festival-050226.jpg
END:VEVENT
END:VCALENDAR