BEGIN:VCALENDAR
VERSION:2.0
PRODID:-//International Churches of Nice and St Paul de Vence - ECPv6.15.20//NONSGML v1.0//EN
CALSCALE:GREGORIAN
METHOD:PUBLISH
X-ORIGINAL-URL:https://ibcfrance.org
X-WR-CALDESC:Events for International Churches of Nice and St Paul de Vence
REFRESH-INTERVAL;VALUE=DURATION:PT1H
X-Robots-Tag:noindex
X-PUBLISHED-TTL:PT1H
BEGIN:VTIMEZONE
TZID:Europe/Paris
BEGIN:DAYLIGHT
TZOFFSETFROM:+0100
TZOFFSETTO:+0200
TZNAME:CEST
DTSTART:20240331T010000
END:DAYLIGHT
BEGIN:STANDARD
TZOFFSETFROM:+0200
TZOFFSETTO:+0100
TZNAME:CET
DTSTART:20241027T010000
END:STANDARD
BEGIN:DAYLIGHT
TZOFFSETFROM:+0100
TZOFFSETTO:+0200
TZNAME:CEST
DTSTART:20250330T010000
END:DAYLIGHT
BEGIN:STANDARD
TZOFFSETFROM:+0200
TZOFFSETTO:+0100
TZNAME:CET
DTSTART:20251026T010000
END:STANDARD
BEGIN:DAYLIGHT
TZOFFSETFROM:+0100
TZOFFSETTO:+0200
TZNAME:CEST
DTSTART:20260329T010000
END:DAYLIGHT
BEGIN:STANDARD
TZOFFSETFROM:+0200
TZOFFSETTO:+0100
TZNAME:CET
DTSTART:20261025T010000
END:STANDARD
END:VTIMEZONE
BEGIN:VEVENT
DTSTART;TZID=Europe/Paris:20250406T104500
DTEND;TZID=Europe/Paris:20250406T120000
DTSTAMP:20260424T005110
CREATED:20250312T210017Z
LAST-MODIFIED:20250316T130539Z
UID:10003242-1743936300-1743940800@ibcfrance.org
SUMMARY:Pourquoi?  Why? Visiting Pastor Dr. Rick Thompson
DESCRIPTION:For the next 6 weeks\, join us on Sunday mornings for a special treat as visiting Pastor Dr. Rick Thompson leads us through an exciting series.
URL:https://ibcfrance.org/event/pourquoi-why-visiting-pastor-dr-rick-thompson/2025-04-06/
LOCATION:IBC St Paul de Vence\, Rond Point Sainte Claire\, Espace Sainte Claire Commercial Center/Indigo Parking Garage on Level 0\, St Paul de Vence\, 06570\, France
CATEGORIES:Special Events
ATTACH;FMTTYPE=application/pdf:https://ibcfrance.org/wp-content/uploads/2025/03/Thompsons-Schedule-Rev.pdf
END:VEVENT
BEGIN:VEVENT
DTSTART;TZID=Europe/Paris:20250412T090000
DTEND;TZID=Europe/Paris:20250412T120000
DTSTAMP:20260424T005110
CREATED:20250311T081125Z
LAST-MODIFIED:20250311T081125Z
UID:10003237-1744448400-1744459200@ibcfrance.org
SUMMARY:1/2 day of Prayer - St Paul de Vence (Monaco and Nice welcome)
DESCRIPTION:1 Thessalonians 5:16-18 reminds us:  Rejoice always\, pray without ceasing\, give thanks in all circumstances; for this is the will of God in Christ Jesus for you. \nIn following this command\, please join us for a 1/2 day of prayer.
URL:https://ibcfrance.org/event/1-2-day-of-prayer-st-paul-de-vence-monaco-and-nice-welcome/
LOCATION:IBC St Paul de Vence\, Rond Point Sainte Claire\, Espace Sainte Claire Commercial Center/Indigo Parking Garage on Level 0\, St Paul de Vence\, 06570\, France
CATEGORIES:Special Events
ATTACH;FMTTYPE=image/jpeg:https://ibcfrance.org/wp-content/uploads/2024/06/holding-hands-752878_640-1.jpg
END:VEVENT
END:VCALENDAR