BEGIN:VCALENDAR
VERSION:2.0
PRODID:-//International Churches of Nice and St Paul de Vence - ECPv6.15.20//NONSGML v1.0//EN
CALSCALE:GREGORIAN
METHOD:PUBLISH
X-ORIGINAL-URL:https://ibcfrance.org
X-WR-CALDESC:Events for International Churches of Nice and St Paul de Vence
REFRESH-INTERVAL;VALUE=DURATION:PT1H
X-Robots-Tag:noindex
X-PUBLISHED-TTL:PT1H
BEGIN:VTIMEZONE
TZID:Europe/Paris
BEGIN:DAYLIGHT
TZOFFSETFROM:+0100
TZOFFSETTO:+0200
TZNAME:CEST
DTSTART:20240331T010000
END:DAYLIGHT
BEGIN:STANDARD
TZOFFSETFROM:+0200
TZOFFSETTO:+0100
TZNAME:CET
DTSTART:20241027T010000
END:STANDARD
BEGIN:DAYLIGHT
TZOFFSETFROM:+0100
TZOFFSETTO:+0200
TZNAME:CEST
DTSTART:20250330T010000
END:DAYLIGHT
BEGIN:STANDARD
TZOFFSETFROM:+0200
TZOFFSETTO:+0100
TZNAME:CET
DTSTART:20251026T010000
END:STANDARD
BEGIN:DAYLIGHT
TZOFFSETFROM:+0100
TZOFFSETTO:+0200
TZNAME:CEST
DTSTART:20260329T010000
END:DAYLIGHT
BEGIN:STANDARD
TZOFFSETFROM:+0200
TZOFFSETTO:+0100
TZNAME:CET
DTSTART:20261025T010000
END:STANDARD
END:VTIMEZONE
BEGIN:VEVENT
DTSTART;TZID=Europe/Paris:20250721T080000
DTEND;TZID=Europe/Paris:20250722T170000
DTSTAMP:20260424T125356
CREATED:20250309T144652Z
LAST-MODIFIED:20250728T141003Z
UID:10003232-1753084800-1753203600@ibcfrance.org
SUMMARY:Kid's summer camp
DESCRIPTION:Team Northern Ireland is coming back for a week of fun!  Mark your calendars for July 21-25.  Registration will be available after Easter.  \nThis is a great opportunity for kids to spend in fellowship\, singing\, playing\, and creating\, while learning about God and His story for His people. \nThere are a limited number of spaces\, and this is open to church members\, attendees and also the general public.
URL:https://ibcfrance.org/event/kids-summer-camp/2025-07-21/
LOCATION:IBC St Paul de Vence\, Rond Point Sainte Claire\, Espace Sainte Claire Commercial Center/Indigo Parking Garage on Level 0\, St Paul de Vence\, 06570\, France
CATEGORIES:Special Events
ATTACH;FMTTYPE=application/pdf:https://ibcfrance.org/wp-content/uploads/2025/03/Kids-Club-2025-Eng.pdf
END:VEVENT
BEGIN:VEVENT
DTSTART;TZID=Europe/Paris:20250722T080000
DTEND;TZID=Europe/Paris:20250723T170000
DTSTAMP:20260424T125356
CREATED:20250309T144652Z
LAST-MODIFIED:20250728T141003Z
UID:10003233-1753171200-1753290000@ibcfrance.org
SUMMARY:Kid's summer camp
DESCRIPTION:Team Northern Ireland is coming back for a week of fun!  Mark your calendars for July 21-25.  Registration will be available after Easter.  \nThis is a great opportunity for kids to spend in fellowship\, singing\, playing\, and creating\, while learning about God and His story for His people. \nThere are a limited number of spaces\, and this is open to church members\, attendees and also the general public.
URL:https://ibcfrance.org/event/kids-summer-camp/2025-07-22/
LOCATION:IBC St Paul de Vence\, Rond Point Sainte Claire\, Espace Sainte Claire Commercial Center/Indigo Parking Garage on Level 0\, St Paul de Vence\, 06570\, France
CATEGORIES:Special Events
ATTACH;FMTTYPE=application/pdf:https://ibcfrance.org/wp-content/uploads/2025/03/Kids-Club-2025-Eng.pdf
END:VEVENT
BEGIN:VEVENT
DTSTART;TZID=Europe/Paris:20250722T183000
DTEND;TZID=Europe/Paris:20250722T203000
DTSTAMP:20260424T125356
CREATED:20250721T071656Z
LAST-MODIFIED:20250721T072415Z
UID:10003338-1753209000-1753216200@ibcfrance.org
SUMMARY:Teens Beach Party
DESCRIPTION:Hello \nWe have a special event this Tuesday at 6.30pm on the beach in Cagnes sur Mer (just where boulevard Kennedy meets the sea)  \nHangout with our visiting teams from Northern Ireland. Swim\, bring a picnic or some food to share and play some games!
URL:https://ibcfrance.org/event/teens-beach-party/
CATEGORIES:Special Events
ATTACH;FMTTYPE=image/png:https://ibcfrance.org/wp-content/uploads/2025/07/Beach-Ball-scaled.png
END:VEVENT
BEGIN:VEVENT
DTSTART;TZID=Europe/Paris:20250723T080000
DTEND;TZID=Europe/Paris:20250724T170000
DTSTAMP:20260424T125356
CREATED:20250309T144652Z
LAST-MODIFIED:20250728T141003Z
UID:10003234-1753257600-1753376400@ibcfrance.org
SUMMARY:Kid's summer camp
DESCRIPTION:Team Northern Ireland is coming back for a week of fun!  Mark your calendars for July 21-25.  Registration will be available after Easter.  \nThis is a great opportunity for kids to spend in fellowship\, singing\, playing\, and creating\, while learning about God and His story for His people. \nThere are a limited number of spaces\, and this is open to church members\, attendees and also the general public.
URL:https://ibcfrance.org/event/kids-summer-camp/2025-07-23/
LOCATION:IBC St Paul de Vence\, Rond Point Sainte Claire\, Espace Sainte Claire Commercial Center/Indigo Parking Garage on Level 0\, St Paul de Vence\, 06570\, France
CATEGORIES:Special Events
ATTACH;FMTTYPE=application/pdf:https://ibcfrance.org/wp-content/uploads/2025/03/Kids-Club-2025-Eng.pdf
END:VEVENT
BEGIN:VEVENT
DTSTART;TZID=Europe/Paris:20250724T080000
DTEND;TZID=Europe/Paris:20250725T170000
DTSTAMP:20260424T125356
CREATED:20250309T144652Z
LAST-MODIFIED:20250728T141003Z
UID:10003235-1753344000-1753462800@ibcfrance.org
SUMMARY:Kid's summer camp
DESCRIPTION:Team Northern Ireland is coming back for a week of fun!  Mark your calendars for July 21-25.  Registration will be available after Easter.  \nThis is a great opportunity for kids to spend in fellowship\, singing\, playing\, and creating\, while learning about God and His story for His people. \nThere are a limited number of spaces\, and this is open to church members\, attendees and also the general public.
URL:https://ibcfrance.org/event/kids-summer-camp/2025-07-24/
LOCATION:IBC St Paul de Vence\, Rond Point Sainte Claire\, Espace Sainte Claire Commercial Center/Indigo Parking Garage on Level 0\, St Paul de Vence\, 06570\, France
CATEGORIES:Special Events
ATTACH;FMTTYPE=application/pdf:https://ibcfrance.org/wp-content/uploads/2025/03/Kids-Club-2025-Eng.pdf
END:VEVENT
BEGIN:VEVENT
DTSTART;TZID=Europe/Paris:20250724T190000
DTEND;TZID=Europe/Paris:20250724T203000
DTSTAMP:20260424T125356
CREATED:20250615T101859Z
LAST-MODIFIED:20250615T101859Z
UID:10003330-1753383600-1753389000@ibcfrance.org
SUMMARY:Summer Beach Party - Soirée Plage
DESCRIPTION:In the summer\, we ditch the interiors and the Zoom calls and head for the beach!   God blessed us with the amazing beauty of the Côte d’Azur.  Every Thursday evening\, from 1900 to about 2030\, starting July 3rd until the end of August\, we meet and fellowship.  Please bring some snacks to share and invite your friends\, whether they are believers or not.  This time can represent a great opportunity to show Christian love and to share the Gospel.  We meet on the beach where Gambetta meets the sea.   \nEn été\, nous abandonnons les intérieurs et les appels Zoom et nous nous rendons à la plage !   Dieu nous a bénis en nous offrant l’incroyable beauté de la Côte d’Azur.  Tous les jeudis soirs\, de 19h00 à 20h30 environ\, à partir du 3 juillet et jusqu’à la fin du mois d’août\, nous nous rencontrons et nous fraternisons.  Apportez des collations à partager et invitez vos amis\, qu’ils soient croyants ou non.  Ce moment peut représenter une grande opportunité de montrer l’amour chrétien et de partager l’Evangile.  Nous nous retrouvons sur la plage où Gambetta rencontre la mer.
URL:https://ibcfrance.org/event/summer-beach-party-soiree-plage/2025-07-24/
CATEGORIES:Special Events
ATTACH;FMTTYPE=image/jpeg:https://ibcfrance.org/wp-content/uploads/2025/06/Beach-Party.jpeg
END:VEVENT
BEGIN:VEVENT
DTSTART;TZID=Europe/Paris:20250725T080000
DTEND;TZID=Europe/Paris:20250726T170000
DTSTAMP:20260424T125356
CREATED:20250309T144652Z
LAST-MODIFIED:20250728T141003Z
UID:10003236-1753430400-1753549200@ibcfrance.org
SUMMARY:Kid's summer camp
DESCRIPTION:Team Northern Ireland is coming back for a week of fun!  Mark your calendars for July 21-25.  Registration will be available after Easter.  \nThis is a great opportunity for kids to spend in fellowship\, singing\, playing\, and creating\, while learning about God and His story for His people. \nThere are a limited number of spaces\, and this is open to church members\, attendees and also the general public.
URL:https://ibcfrance.org/event/kids-summer-camp/2025-07-25/
LOCATION:IBC St Paul de Vence\, Rond Point Sainte Claire\, Espace Sainte Claire Commercial Center/Indigo Parking Garage on Level 0\, St Paul de Vence\, 06570\, France
CATEGORIES:Special Events
ATTACH;FMTTYPE=application/pdf:https://ibcfrance.org/wp-content/uploads/2025/03/Kids-Club-2025-Eng.pdf
END:VEVENT
END:VCALENDAR